Package: randPack Version: 1.57.0 Command: rm -rf randPack.buildbin-libdir && mkdir randPack.buildbin-libdir && /Users/biocbuild/BBS/utils/build-universal.sh randPack_1.57.0.tar.gz /Library/Frameworks/R.framework/Resources/bin/R randPack.buildbin-libdir StartedAt: 2025-11-13 23:51:51 -0500 (Thu, 13 Nov 2025) EndedAt: 2025-11-13 23:51:54 -0500 (Thu, 13 Nov 2025) EllapsedTime: 3.1 seconds RetCode: 0 Status: OK PackageFile: randPack_1.57.0.tgz PackageFileSize: 462.2 KiB