Package: randPack Version: 1.57.0 Maintainer: Robert Gentleman MaintainerEmail: rgentlem at gmail.com git_url: https://git.bioconductor.org/packages/randPack git_branch: devel git_last_commit: ec45457 git_last_commit_date: 2025-10-29 10:07:56 -0500 (Wed, 29 Oct 2025)