Package: ramr Version: 1.19.0 Command: /home/biocbuild/bbs-3.23-bioc/R/bin/R CMD INSTALL ramr StartedAt: 2025-11-11 15:19:07 -0500 (Tue, 11 Nov 2025) EndedAt: 2025-11-11 15:20:06 -0500 (Tue, 11 Nov 2025) EllapsedTime: 58.8 seconds RetCode: 0 Status: OK