Package: ramr Version: 1.19.0 Command: /Library/Frameworks/R.framework/Resources/bin/R CMD build --keep-empty-dirs --no-resave-data ramr StartedAt: 2025-11-13 17:25:35 -0500 (Thu, 13 Nov 2025) EndedAt: 2025-11-13 17:26:35 -0500 (Thu, 13 Nov 2025) EllapsedTime: 60.8 seconds RetCode: 0 Status: OK PackageFile: ramr_1.19.0.tar.gz PackageFileSize: 2.845 MiB