Package: ramr Version: 1.19.0 Command: rm -rf ramr.buildbin-libdir && mkdir ramr.buildbin-libdir && /Users/biocbuild/BBS/utils/build-universal.sh ramr_1.19.0.tar.gz /Library/Frameworks/R.framework/Resources/bin/R ramr.buildbin-libdir StartedAt: 2025-11-13 23:51:50 -0500 (Thu, 13 Nov 2025) EndedAt: 2025-11-13 23:52:10 -0500 (Thu, 13 Nov 2025) EllapsedTime: 19.5 seconds RetCode: 0 Status: OK PackageFile: ramr_1.19.0.tgz PackageFileSize: 2.85 MiB