Package: ramr Version: 1.19.0 Maintainer: Oleksii Nikolaienko MaintainerEmail: oleksii.nikolaienko at gmail.com git_url: https://git.bioconductor.org/packages/ramr git_branch: devel git_last_commit: d6a405c git_last_commit_date: 2025-10-29 11:05:28 -0500 (Wed, 29 Oct 2025)