Package: rain Version: 1.45.0 Command: /Library/Frameworks/R.framework/Resources/bin/R CMD INSTALL rain StartedAt: 2025-11-14 15:07:21 -0500 (Fri, 14 Nov 2025) EndedAt: 2025-11-14 15:07:24 -0500 (Fri, 14 Nov 2025) EllapsedTime: 3.1 seconds RetCode: 0 Status: OK