Package: rain Version: 1.45.0 Command: /Library/Frameworks/R.framework/Resources/bin/R CMD build --keep-empty-dirs --no-resave-data rain StartedAt: 2025-11-14 17:22:28 -0500 (Fri, 14 Nov 2025) EndedAt: 2025-11-14 17:22:41 -0500 (Fri, 14 Nov 2025) EllapsedTime: 13.2 seconds RetCode: 0 Status: OK PackageFile: rain_1.45.0.tar.gz PackageFileSize: 604.6 KiB