Package: rain Version: 1.45.0 Command: rm -rf rain.buildbin-libdir && mkdir rain.buildbin-libdir && /Users/biocbuild/BBS/utils/build-universal.sh rain_1.45.0.tar.gz /Library/Frameworks/R.framework/Resources/bin/R rain.buildbin-libdir StartedAt: 2025-11-14 23:46:57 -0500 (Fri, 14 Nov 2025) EndedAt: 2025-11-14 23:47:01 -0500 (Fri, 14 Nov 2025) EllapsedTime: 4.1 seconds RetCode: 0 Status: OK PackageFile: rain_1.45.0.tgz PackageFileSize: 633.1 KiB