Package: rWikiPathways Version: 1.31.0 Command: /home/biocbuild/bbs-3.23-bioc/R/bin/R CMD INSTALL rWikiPathways StartedAt: 2025-11-21 15:10:27 -0500 (Fri, 21 Nov 2025) EndedAt: 2025-11-21 15:10:39 -0500 (Fri, 21 Nov 2025) EllapsedTime: 11.5 seconds RetCode: 0 Status: OK