Package: rWikiPathways Version: 1.31.0 Command: /home/biocbuild/bbs-3.23-bioc/R/bin/R CMD build --keep-empty-dirs --no-resave-data rWikiPathways StartedAt: 2025-11-21 19:46:46 -0500 (Fri, 21 Nov 2025) EndedAt: 2025-11-21 19:46:59 -0500 (Fri, 21 Nov 2025) EllapsedTime: 13.0 seconds RetCode: 0 Status: OK PackageFile: rWikiPathways_1.31.0.tar.gz PackageFileSize: 10.38 MiB