Package: rWikiPathways Version: 1.31.0 Command: /Library/Frameworks/R.framework/Resources/bin/R CMD build --keep-empty-dirs --no-resave-data rWikiPathways StartedAt: 2025-11-14 17:31:06 -0500 (Fri, 14 Nov 2025) EndedAt: 2025-11-14 17:31:14 -0500 (Fri, 14 Nov 2025) EllapsedTime: 7.1 seconds RetCode: 0 Status: OK PackageFile: rWikiPathways_1.31.0.tar.gz PackageFileSize: 10.38 MiB