Package: rWikiPathways Version: 1.31.0 Command: rm -rf rWikiPathways.buildbin-libdir && mkdir rWikiPathways.buildbin-libdir && /Users/biocbuild/BBS/utils/build-universal.sh rWikiPathways_1.31.0.tar.gz /Library/Frameworks/R.framework/Resources/bin/R rWikiPathways.buildbin-libdir StartedAt: 2025-11-13 23:54:31 -0500 (Thu, 13 Nov 2025) EndedAt: 2025-11-13 23:54:35 -0500 (Thu, 13 Nov 2025) EllapsedTime: 4.1 seconds RetCode: 0 Status: OK PackageFile: rWikiPathways_1.31.0.tgz PackageFileSize: 2.875 MiB