Package: rWikiPathways Version: 1.31.0 Maintainer: Egon Willighagen MaintainerEmail: egon.willighagen at gmail.com git_url: https://git.bioconductor.org/packages/rWikiPathways git_branch: devel git_last_commit: edca798 git_last_commit_date: 2025-10-29 10:44:32 -0500 (Wed, 29 Oct 2025)