Package: rTRMui Version: 1.49.0 Command: /Library/Frameworks/R.framework/Resources/bin/R CMD INSTALL rTRMui StartedAt: 2025-11-14 15:32:17 -0500 (Fri, 14 Nov 2025) EndedAt: 2025-11-14 15:32:36 -0500 (Fri, 14 Nov 2025) EllapsedTime: 19.1 seconds RetCode: 0 Status: OK