Package: rTRMui Version: 1.49.0 Command: /Library/Frameworks/R.framework/Resources/bin/R CMD build --keep-empty-dirs --no-resave-data rTRMui StartedAt: 2025-11-14 17:30:46 -0500 (Fri, 14 Nov 2025) EndedAt: 2025-11-14 17:31:15 -0500 (Fri, 14 Nov 2025) EllapsedTime: 28.4 seconds RetCode: 0 Status: OK PackageFile: rTRMui_1.49.0.tar.gz PackageFileSize: 1.11 MiB