Package: rTRMui Version: 1.49.0 Command: rm -rf rTRMui.buildbin-libdir && mkdir rTRMui.buildbin-libdir && /Users/biocbuild/BBS/utils/build-universal.sh rTRMui_1.49.0.tar.gz /Library/Frameworks/R.framework/Resources/bin/R rTRMui.buildbin-libdir StartedAt: 2025-11-14 23:49:37 -0500 (Fri, 14 Nov 2025) EndedAt: 2025-11-14 23:50:01 -0500 (Fri, 14 Nov 2025) EllapsedTime: 23.5 seconds RetCode: 0 Status: OK PackageFile: rTRMui_1.49.0.tgz PackageFileSize: 835.3 KiB