Package: rTRM Version: 1.49.0 Command: /Library/Frameworks/R.framework/Resources/bin/R CMD INSTALL rTRM StartedAt: 2025-11-13 15:08:53 -0500 (Thu, 13 Nov 2025) EndedAt: 2025-11-13 15:09:00 -0500 (Thu, 13 Nov 2025) EllapsedTime: 7.2 seconds RetCode: 0 Status: OK