Package: rTRM Version: 1.49.0 Command: /Library/Frameworks/R.framework/Resources/bin/R CMD build --keep-empty-dirs --no-resave-data rTRM StartedAt: 2025-11-13 17:33:37 -0500 (Thu, 13 Nov 2025) EndedAt: 2025-11-13 17:33:58 -0500 (Thu, 13 Nov 2025) EllapsedTime: 21.2 seconds RetCode: 0 Status: OK PackageFile: rTRM_1.49.0.tar.gz PackageFileSize: 3.553 MiB