Package: rTRM Version: 1.49.0 Command: rm -rf rTRM.buildbin-libdir && mkdir rTRM.buildbin-libdir && /Users/biocbuild/BBS/utils/build-universal.sh rTRM_1.49.0.tar.gz /Library/Frameworks/R.framework/Resources/bin/R rTRM.buildbin-libdir StartedAt: 2025-11-13 23:54:25 -0500 (Thu, 13 Nov 2025) EndedAt: 2025-11-13 23:54:33 -0500 (Thu, 13 Nov 2025) EllapsedTime: 8.3 seconds RetCode: 0 Status: OK PackageFile: rTRM_1.49.0.tgz PackageFileSize: 3.508 MiB