Package: rTRM Version: 1.49.0 Maintainer: Diego Diez MaintainerEmail: diego10ruiz at gmail.com git_url: https://git.bioconductor.org/packages/rTRM git_branch: devel git_last_commit: deb123f git_last_commit_date: 2025-10-29 10:15:20 -0500 (Wed, 29 Oct 2025)