Package: rSWeeP Version: 1.23.0 Command: /Library/Frameworks/R.framework/Resources/bin/R CMD INSTALL rSWeeP StartedAt: 2025-11-14 15:08:33 -0500 (Fri, 14 Nov 2025) EndedAt: 2025-11-14 15:08:37 -0500 (Fri, 14 Nov 2025) EllapsedTime: 4.6 seconds RetCode: 0 Status: OK