Package: rSWeeP Version: 1.23.0 Command: /Library/Frameworks/R.framework/Resources/bin/R CMD build --keep-empty-dirs --no-resave-data rSWeeP StartedAt: 2025-11-14 17:30:17 -0500 (Fri, 14 Nov 2025) EndedAt: 2025-11-14 17:30:26 -0500 (Fri, 14 Nov 2025) EllapsedTime: 9.1 seconds RetCode: 0 Status: OK PackageFile: rSWeeP_1.23.0.tar.gz PackageFileSize: 360 KiB