Package: rSWeeP Version: 1.23.0 Command: rm -rf rSWeeP.buildbin-libdir && mkdir rSWeeP.buildbin-libdir && /Users/biocbuild/BBS/utils/build-universal.sh rSWeeP_1.23.0.tar.gz /Library/Frameworks/R.framework/Resources/bin/R rSWeeP.buildbin-libdir StartedAt: 2025-11-14 23:49:20 -0500 (Fri, 14 Nov 2025) EndedAt: 2025-11-14 23:49:26 -0500 (Fri, 14 Nov 2025) EllapsedTime: 6.1 seconds RetCode: 0 Status: OK PackageFile: rSWeeP_1.23.0.tgz PackageFileSize: 462.5 KiB