Package: rRDP Version: 1.43.1 Command: /home/biocbuild/bbs-3.23-bioc/R/bin/R CMD INSTALL rRDP StartedAt: 2025-10-22 21:08:51 -0000 (Wed, 22 Oct 2025) EndedAt: 2025-10-22 21:09:01 -0000 (Wed, 22 Oct 2025) EllapsedTime: 9.6 seconds RetCode: 0 Status: OK