Package: rRDP Version: 1.43.1 Command: /home/biocbuild/bbs-3.23-bioc/R/bin/R CMD build --keep-empty-dirs --no-resave-data rRDP StartedAt: 2025-10-23 00:18:26 -0000 (Thu, 23 Oct 2025) EndedAt: 2025-10-23 00:18:40 -0000 (Thu, 23 Oct 2025) EllapsedTime: 14.0 seconds RetCode: 1 Status: ERROR PackageFile: None PackageFileSize: NA