Package: rRDP Version: 1.43.1 Maintainer: Michael Hahsler MaintainerEmail: mhahsler at lyle.smu.edu git_url: https://git.bioconductor.org/packages/rRDP git_branch: devel git_last_commit: 03187f3 git_last_commit_date: 2025-10-08 08:06:46 -0400 (Wed, 08 Oct 2025)