Package: rGenomeTracks Version: 1.17.0 Command: /Library/Frameworks/R.framework/Resources/bin/R CMD INSTALL rGenomeTracks StartedAt: 2025-11-14 15:09:32 -0500 (Fri, 14 Nov 2025) EndedAt: 2025-11-14 15:09:36 -0500 (Fri, 14 Nov 2025) EllapsedTime: 3.5 seconds RetCode: 0 Status: OK