Package: rGenomeTracks Version: 1.17.0 Command: /Library/Frameworks/R.framework/Resources/bin/R CMD build --keep-empty-dirs --no-resave-data rGenomeTracks StartedAt: 2025-11-13 17:28:57 -0500 (Thu, 13 Nov 2025) EndedAt: 2025-11-13 17:29:03 -0500 (Thu, 13 Nov 2025) EllapsedTime: 6.1 seconds RetCode: 0 Status: OK PackageFile: rGenomeTracks_1.17.0.tar.gz PackageFileSize: 3.345 MiB