Package: rGenomeTracks Version: 1.17.0 Command: rm -rf rGenomeTracks.buildbin-libdir && mkdir rGenomeTracks.buildbin-libdir && /Users/biocbuild/BBS/utils/build-universal.sh rGenomeTracks_1.17.0.tar.gz /Library/Frameworks/R.framework/Resources/bin/R rGenomeTracks.buildbin-libdir StartedAt: 2025-11-13 23:52:49 -0500 (Thu, 13 Nov 2025) EndedAt: 2025-11-13 23:52:54 -0500 (Thu, 13 Nov 2025) EllapsedTime: 5.1 seconds RetCode: 0 Status: OK PackageFile: rGenomeTracks_1.17.0.tgz PackageFileSize: 3.411 MiB