Package: rGenomeTracks Version: 1.17.0 Maintainer: Omar Elashkar MaintainerEmail: omar.i.elashkar at gmail.com git_url: https://git.bioconductor.org/packages/rGenomeTracks git_branch: devel git_last_commit: 5acca55 git_last_commit_date: 2025-10-29 11:11:59 -0500 (Wed, 29 Oct 2025)