Package: rGREAT Version: 2.13.1 Command: /home/biocbuild/bbs-3.23-bioc/R/bin/R CMD INSTALL rGREAT StartedAt: 2025-11-14 15:59:50 -0500 (Fri, 14 Nov 2025) EndedAt: 2025-11-14 16:00:36 -0500 (Fri, 14 Nov 2025) EllapsedTime: 46.6 seconds RetCode: 0 Status: OK