Package: rGREAT Version: 2.13.1 Command: /home/biocbuild/bbs-3.23-bioc/R/bin/R CMD build --keep-empty-dirs --no-resave-data rGREAT StartedAt: 2025-11-14 19:36:00 -0500 (Fri, 14 Nov 2025) EndedAt: 2025-11-14 19:36:46 -0500 (Fri, 14 Nov 2025) EllapsedTime: 46.0 seconds RetCode: 0 Status: OK PackageFile: rGREAT_2.13.1.tar.gz PackageFileSize: 2.754 MiB