Package: rGREAT Version: 2.13.1 Command: /Library/Frameworks/R.framework/Resources/bin/R CMD INSTALL rGREAT StartedAt: 2025-11-14 15:31:28 -0500 (Fri, 14 Nov 2025) EndedAt: 2025-11-14 15:31:47 -0500 (Fri, 14 Nov 2025) EllapsedTime: 18.4 seconds RetCode: 0 Status: OK