Package: rGREAT Version: 2.13.1 Command: /Library/Frameworks/R.framework/Resources/bin/R CMD build --keep-empty-dirs --no-resave-data rGREAT StartedAt: 2025-11-14 17:26:08 -0500 (Fri, 14 Nov 2025) EndedAt: 2025-11-14 17:26:28 -0500 (Fri, 14 Nov 2025) EllapsedTime: 20.2 seconds RetCode: 0 Status: OK PackageFile: rGREAT_2.13.1.tar.gz PackageFileSize: 2.754 MiB