Package: rGREAT Version: 2.13.1 Command: rm -rf rGREAT.buildbin-libdir && mkdir rGREAT.buildbin-libdir && /Users/biocbuild/BBS/utils/build-universal.sh rGREAT_2.13.1.tar.gz /Library/Frameworks/R.framework/Resources/bin/R rGREAT.buildbin-libdir StartedAt: 2025-11-14 23:47:59 -0500 (Fri, 14 Nov 2025) EndedAt: 2025-11-14 23:48:22 -0500 (Fri, 14 Nov 2025) EllapsedTime: 22.4 seconds RetCode: 0 Status: OK PackageFile: rGREAT_2.13.1.tgz PackageFileSize: 3.43 MiB