Package: rGREAT Version: 2.13.1 Maintainer: Zuguang Gu MaintainerEmail: z.gu at dkfz.de git_url: https://git.bioconductor.org/packages/rGREAT git_branch: devel git_last_commit: 36f069a git_last_commit_date: 2025-11-05 05:00:30 -0500 (Wed, 05 Nov 2025)