Package: rGADEM Version: 2.57.1 Command: /home/biocbuild/bbs-3.23-bioc/R/bin/R CMD INSTALL rGADEM StartedAt: 2025-10-22 21:22:29 -0000 (Wed, 22 Oct 2025) EndedAt: 2025-10-22 21:22:34 -0000 (Wed, 22 Oct 2025) EllapsedTime: 4.5 seconds RetCode: 1 Status: ERROR