Package: rBLAST Version: 1.7.0 Command: /Library/Frameworks/R.framework/Resources/bin/R CMD INSTALL rBLAST StartedAt: 2025-11-14 15:08:42 -0500 (Fri, 14 Nov 2025) EndedAt: 2025-11-14 15:08:46 -0500 (Fri, 14 Nov 2025) EllapsedTime: 3.6 seconds RetCode: 0 Status: OK