Package: rBLAST Version: 1.7.0 Command: /Library/Frameworks/R.framework/Resources/bin/R CMD build --keep-empty-dirs --no-resave-data rBLAST StartedAt: 2025-11-14 17:23:20 -0500 (Fri, 14 Nov 2025) EndedAt: 2025-11-14 17:23:26 -0500 (Fri, 14 Nov 2025) EllapsedTime: 6.1 seconds RetCode: 0 Status: OK PackageFile: rBLAST_1.7.0.tar.gz PackageFileSize: 24.66 KiB