Package: rBLAST Version: 1.7.0 Command: rm -rf rBLAST.buildbin-libdir && mkdir rBLAST.buildbin-libdir && /Users/biocbuild/BBS/utils/build-universal.sh rBLAST_1.7.0.tar.gz /Library/Frameworks/R.framework/Resources/bin/R rBLAST.buildbin-libdir StartedAt: 2025-11-14 23:47:08 -0500 (Fri, 14 Nov 2025) EndedAt: 2025-11-14 23:47:13 -0500 (Fri, 14 Nov 2025) EllapsedTime: 5.1 seconds RetCode: 0 Status: OK PackageFile: rBLAST_1.7.0.tgz PackageFileSize: 49.23 KiB