Package: r3Cseq Version: 1.57.0 Command: /home/biocbuild/bbs-3.23-bioc/R/bin/R CMD INSTALL r3Cseq StartedAt: 2025-11-11 15:34:15 -0500 (Tue, 11 Nov 2025) EndedAt: 2025-11-11 15:34:58 -0500 (Tue, 11 Nov 2025) EllapsedTime: 42.6 seconds RetCode: 0 Status: OK