Package: r3Cseq Version: 1.57.0 Command: /home/biocbuild/bbs-3.23-bioc/R/bin/R CMD check --install=check:r3Cseq.install-out.txt --library=/home/biocbuild/bbs-3.23-bioc/R/site-library --timings r3Cseq_1.57.0.tar.gz StartedAt: 2025-11-15 03:05:38 -0500 (Sat, 15 Nov 2025) EndedAt: 2025-11-15 03:11:21 -0500 (Sat, 15 Nov 2025) EllapsedTime: 342.7 seconds RetCode: 0 Status: OK CheckDir: r3Cseq.Rcheck Warnings: 0