Package: r3Cseq Version: 1.57.0 Command: /Library/Frameworks/R.framework/Resources/bin/R CMD INSTALL r3Cseq StartedAt: 2025-11-12 15:33:03 -0500 (Wed, 12 Nov 2025) EndedAt: 2025-11-12 15:33:19 -0500 (Wed, 12 Nov 2025) EllapsedTime: 15.7 seconds RetCode: 0 Status: OK