Package: r3Cseq Version: 1.57.0 Command: /Library/Frameworks/R.framework/Resources/bin/R CMD check --install=check:r3Cseq.install-out.txt --library=/Library/Frameworks/R.framework/Resources/library --no-vignettes --timings r3Cseq_1.57.0.tar.gz StartedAt: 2025-11-19 21:53:56 -0500 (Wed, 19 Nov 2025) EndedAt: 2025-11-19 21:55:55 -0500 (Wed, 19 Nov 2025) EllapsedTime: 119.5 seconds RetCode: 0 Status: OK CheckDir: r3Cseq.Rcheck Warnings: 0