Package: r3Cseq Version: 1.57.0 Command: /Library/Frameworks/R.framework/Resources/bin/R CMD build --keep-empty-dirs --no-resave-data r3Cseq StartedAt: 2025-11-13 17:25:04 -0500 (Thu, 13 Nov 2025) EndedAt: 2025-11-13 17:26:00 -0500 (Thu, 13 Nov 2025) EllapsedTime: 55.6 seconds RetCode: 0 Status: OK PackageFile: r3Cseq_1.57.0.tar.gz PackageFileSize: 4.327 MiB