Package: r3Cseq Version: 1.57.0 Command: rm -rf r3Cseq.buildbin-libdir && mkdir r3Cseq.buildbin-libdir && /Users/biocbuild/BBS/utils/build-universal.sh r3Cseq_1.57.0.tar.gz /Library/Frameworks/R.framework/Resources/bin/R r3Cseq.buildbin-libdir StartedAt: 2025-11-12 21:07:12 -0500 (Wed, 12 Nov 2025) EndedAt: 2025-11-12 21:07:32 -0500 (Wed, 12 Nov 2025) EllapsedTime: 20.5 seconds RetCode: 0 Status: OK PackageFile: r3Cseq_1.57.0.tgz PackageFileSize: 2.945 MiB