Package: r3Cseq Version: 1.57.0 Maintainer: Supat Thongjuea or MaintainerEmail: supat.thongjuea at gmail.com git_url: https://git.bioconductor.org/packages/r3Cseq git_branch: devel git_last_commit: b35813f git_last_commit_date: 2025-10-29 10:09:24 -0500 (Wed, 29 Oct 2025)