Package: qvalue Version: 2.43.0 Command: /home/biocbuild/bbs-3.23-bioc/R/bin/R CMD INSTALL qvalue StartedAt: 2025-11-11 15:11:36 -0500 (Tue, 11 Nov 2025) EndedAt: 2025-11-11 15:11:48 -0500 (Tue, 11 Nov 2025) EllapsedTime: 12.0 seconds RetCode: 0 Status: OK