Package: qvalue Version: 2.43.0 Command: /Library/Frameworks/R.framework/Resources/bin/R CMD INSTALL qvalue StartedAt: 2025-11-12 15:19:03 -0500 (Wed, 12 Nov 2025) EndedAt: 2025-11-12 15:19:09 -0500 (Wed, 12 Nov 2025) EllapsedTime: 5.5 seconds RetCode: 0 Status: OK